BEGIN:VCALENDAR
VERSION:2.0
PRODID:-//AGORA Ministries - ECPv6.15.20//NONSGML v1.0//EN
CALSCALE:GREGORIAN
METHOD:PUBLISH
X-ORIGINAL-URL:https://agoraministries.com
X-WR-CALDESC:Events for AGORA Ministries
REFRESH-INTERVAL;VALUE=DURATION:PT1H
X-Robots-Tag:noindex
X-PUBLISHED-TTL:PT1H
BEGIN:VTIMEZONE
TZID:America/Chicago
BEGIN:DAYLIGHT
TZOFFSETFROM:-0600
TZOFFSETTO:-0500
TZNAME:CDT
DTSTART:20230312T080000
END:DAYLIGHT
BEGIN:STANDARD
TZOFFSETFROM:-0500
TZOFFSETTO:-0600
TZNAME:CST
DTSTART:20231105T070000
END:STANDARD
BEGIN:DAYLIGHT
TZOFFSETFROM:-0600
TZOFFSETTO:-0500
TZNAME:CDT
DTSTART:20240310T080000
END:DAYLIGHT
BEGIN:STANDARD
TZOFFSETFROM:-0500
TZOFFSETTO:-0600
TZNAME:CST
DTSTART:20241103T070000
END:STANDARD
BEGIN:DAYLIGHT
TZOFFSETFROM:-0600
TZOFFSETTO:-0500
TZNAME:CDT
DTSTART:20250309T080000
END:DAYLIGHT
BEGIN:STANDARD
TZOFFSETFROM:-0500
TZOFFSETTO:-0600
TZNAME:CST
DTSTART:20251102T070000
END:STANDARD
END:VTIMEZONE
BEGIN:VEVENT
DTSTART;VALUE=DATE:20240412
DTEND;VALUE=DATE:20240511
DTSTAMP:20260424T224727
CREATED:20240408T165134Z
LAST-MODIFIED:20240408T165244Z
UID:13094-1712880000-1715385599@agoraministries.com
SUMMARY:Discipleship Training Program - Outreach Phase
DESCRIPTION:We are thrilled to see our DTP students embark on their practical mission in Argentina\, putting into action what they’ve learned in their lecture phase. 🚀 Over the next month\, they will be staying at a YWAM Base\, engaging in a wide range of ministries. From uplifting kids and youth to supporting the homeless and spreading the Gospel\, their service will surely make a profound impact. 🌍 Let’s keep them in our prayers as they step out in faith and love! 🙏 \n  \nStudents will leave April 8th and Return May 10th.
URL:https://agoraministries.com/event/discipleship-training-program-outreach-phase/
ATTACH;FMTTYPE=image/jpeg:https://agoraministries.com/wp-content/uploads/2024/04/IMG_B0ACF3807BE3-1.jpeg
ORGANIZER;CN="AGORA Ministries":MAILTO:info@agoraministries.com
END:VEVENT
BEGIN:VEVENT
DTSTART;TZID=America/Chicago:20240124T110000
DTEND;TZID=America/Chicago:20240124T120000
DTSTAMP:20260424T224727
CREATED:20240117T205711Z
LAST-MODIFIED:20240206T161212Z
UID:12644-1706094000-1706097600@agoraministries.com
SUMMARY:Hope Pantry
DESCRIPTION:Hope Pantry is our bi-monthly relationship ministry with food distribution. Our goal is not just to feed but to build relationships with our families. Our Hope pantry is the place this begins. We share tacos\, donuts\, coffee\, and water with our families\, we break bread together. Then we have a short bi-lingual service and a food distribution. Our Hope pantry is every 2nd and 4th Wednesday of the month. Come join us in serving our community! \n🗓️ Save the Date: Every 2nd and 4th Wednesday of the month \n🕚 Time: 11 am to 12 pm (Volunteer hours: 9 am to 1 pm)
URL:https://agoraministries.com/event/hope-pantry/
LOCATION:AGORA Cassianos\, 1103 Merida\, San Antonio\, TX\, 78207\, United States
ATTACH;FMTTYPE=image/jpeg:https://agoraministries.com/wp-content/uploads/2024/01/IMG_0904-scaled.jpg
ORGANIZER;CN="AGORA Ministries":MAILTO:info@agoraministries.com
END:VEVENT
END:VCALENDAR