BEGIN:VCALENDAR
VERSION:2.0
PRODID:-//AGORA Ministries - ECPv6.15.20//NONSGML v1.0//EN
CALSCALE:GREGORIAN
METHOD:PUBLISH
X-ORIGINAL-URL:https://agoraministries.com
X-WR-CALDESC:Events for AGORA Ministries
REFRESH-INTERVAL;VALUE=DURATION:PT1H
X-Robots-Tag:noindex
X-PUBLISHED-TTL:PT1H
BEGIN:VTIMEZONE
TZID:America/Chicago
BEGIN:DAYLIGHT
TZOFFSETFROM:-0600
TZOFFSETTO:-0500
TZNAME:CDT
DTSTART:20240310T080000
END:DAYLIGHT
BEGIN:STANDARD
TZOFFSETFROM:-0500
TZOFFSETTO:-0600
TZNAME:CST
DTSTART:20241103T070000
END:STANDARD
BEGIN:DAYLIGHT
TZOFFSETFROM:-0600
TZOFFSETTO:-0500
TZNAME:CDT
DTSTART:20250309T080000
END:DAYLIGHT
BEGIN:STANDARD
TZOFFSETFROM:-0500
TZOFFSETTO:-0600
TZNAME:CST
DTSTART:20251102T070000
END:STANDARD
BEGIN:DAYLIGHT
TZOFFSETFROM:-0600
TZOFFSETTO:-0500
TZNAME:CDT
DTSTART:20260308T080000
END:DAYLIGHT
BEGIN:STANDARD
TZOFFSETFROM:-0500
TZOFFSETTO:-0600
TZNAME:CST
DTSTART:20261101T070000
END:STANDARD
END:VTIMEZONE
BEGIN:VEVENT
DTSTART;TZID=America/Chicago:20250816T090000
DTEND;TZID=America/Chicago:20250816T130000
DTSTAMP:20260423T234409
CREATED:20250814T165207Z
LAST-MODIFIED:20250814T165526Z
UID:13931-1755334800-1755349200@agoraministries.com
SUMMARY:PRIVATE EVENT! Back to school shoe giveaway
DESCRIPTION:Volunteers Needed – This Saturday \nThis Saturday\, we’ll be distributing shoes to pre-selected families only. These families have already been contacted and given specific arrival times\, so this announcement is for event volunteers only\, not the general public. \nWe especially need bilingual volunteers — if you are\, please let one of our staff know when you arrive. \n\n\nEvent time: 10:00 AM – 1:00 PM \n\nLocation: 1103 Merida San Antonio\, TX 78207\n\nVolunteer arrival: 9:00 AM \n\n\nVolunteer orientation: 9:15 AM \n\n\nWe have several stations that need coverage\, and we’re looking forward to serving together!
URL:https://agoraministries.com/event/private-event-back-to-school-shoe-giveaway/
LOCATION:AGORA Cassianos\, 1103 Merida\, San Antonio\, TX\, 78207\, United States
ORGANIZER;CN="AGORA Ministries":MAILTO:info@agoraministries.com
END:VEVENT
BEGIN:VEVENT
DTSTART;TZID=America/Chicago:20250816T103000
DTEND;TZID=America/Chicago:20250816T133000
DTSTAMP:20260423T234409
CREATED:20250117T155340Z
LAST-MODIFIED:20250117T155340Z
UID:13709-1755340200-1755351000@agoraministries.com
SUMMARY:AGORA Kids
DESCRIPTION:AGORA Kids is a time of fun and Bible teaching\, we currently host it twice a month on Saturday afternoons.\nWe pick up the kids and bring them to hang out in a local park/ area. We play games with them\, have a devotional with crafts to go along\, and end the time with snacks and more fun 🙂\nVolunteers help with teaching\, food\, games\, and forming relationships with the kids. \n🗓️ Save the Date: 1st\, 2nd\, and 3rd Saturday of the month \n🕚 Time: 11 am to 1 pm (Volunteer hours: 10:30 am to 1:30 pm)
URL:https://agoraministries.com/event/agora-kids-15/
ATTACH;FMTTYPE=image/jpeg:https://agoraministries.com/wp-content/uploads/2025/01/IMG_4605.jpg
ORGANIZER;CN="AGORA Ministries":MAILTO:info@agoraministries.com
END:VEVENT
END:VCALENDAR