BEGIN:VCALENDAR
VERSION:2.0
PRODID:-//AGORA Ministries - ECPv6.15.20//NONSGML v1.0//EN
CALSCALE:GREGORIAN
METHOD:PUBLISH
X-ORIGINAL-URL:https://agoraministries.com
X-WR-CALDESC:Events for AGORA Ministries
REFRESH-INTERVAL;VALUE=DURATION:PT1H
X-Robots-Tag:noindex
X-PUBLISHED-TTL:PT1H
BEGIN:VTIMEZONE
TZID:America/Chicago
BEGIN:DAYLIGHT
TZOFFSETFROM:-0600
TZOFFSETTO:-0500
TZNAME:CDT
DTSTART:20240310T080000
END:DAYLIGHT
BEGIN:STANDARD
TZOFFSETFROM:-0500
TZOFFSETTO:-0600
TZNAME:CST
DTSTART:20241103T070000
END:STANDARD
BEGIN:DAYLIGHT
TZOFFSETFROM:-0600
TZOFFSETTO:-0500
TZNAME:CDT
DTSTART:20250309T080000
END:DAYLIGHT
BEGIN:STANDARD
TZOFFSETFROM:-0500
TZOFFSETTO:-0600
TZNAME:CST
DTSTART:20251102T070000
END:STANDARD
BEGIN:DAYLIGHT
TZOFFSETFROM:-0600
TZOFFSETTO:-0500
TZNAME:CDT
DTSTART:20260308T080000
END:DAYLIGHT
BEGIN:STANDARD
TZOFFSETFROM:-0500
TZOFFSETTO:-0600
TZNAME:CST
DTSTART:20261101T070000
END:STANDARD
END:VTIMEZONE
BEGIN:VEVENT
DTSTART;TZID=America/Chicago:20250830T090000
DTEND;TZID=America/Chicago:20250830T130000
DTSTAMP:20260423T234415
CREATED:20250814T191004Z
LAST-MODIFIED:20250821T212639Z
UID:13936-1756544400-1756558800@agoraministries.com
SUMMARY:PRIVATE EVENT! Opportunity Homes Back to School Shoe Distribution
DESCRIPTION:Families \nWe’re Excited — Your Shoes Are Ready!\nIf you signed up\, we’ve got a pair of shoes waiting just for you!\nPlease bring a form of ID to pick them up.\nChildren must be present. \nPickup Time: Saturday\, August 30th \nEvent time: 10:00 AM – 12:00 PM\nLocation: 1103 Merida San Antonio\, TX 78207 \nWe can’t wait to see you there! \n¡Estamos emocionados! ¡Tus zapatos están listos!\nSi te inscribiste\, ¡tenemos un par de zapatos esperándote!\nPor favor\, trae una identificación para recogerlos.\nLos niños deben estar presentes.\nHora de recogida: Sábado 30 de agosto\, 10:00 a. m. a 12:00 p. m.\nUbicación: 1103 Merida\, San Antonio\, TX 78207\n¡Te esperamos! \n  \nVolunteers Needed – Saturday\, August 30th \nSaturday\, August 30th\, we’ll be distributing shoes to pre-selected families only. These families have already been contacted and given specific arrival times\, so this announcement is for event volunteers only\, not the general public. \nWe especially need bilingual volunteers — if you are\, please let one of our staff know when you arrive. \n\n\nEvent time: 10:00 AM – 1:00 PM \n\nLocation: 1103 Merida\n\nVolunteer arrival: 9:00 AM \n\n\nVolunteer orientation: 9:15 AM \n\n\nWe have several stations that need coverage\, and we’re looking forward to serving together!
URL:https://agoraministries.com/event/private-event-saha-back-to-school-shoe-giveaway/
LOCATION:AGORA Cassianos\, 1103 Merida\, San Antonio\, TX\, 78207\, United States
ATTACH;FMTTYPE=image/png:https://agoraministries.com/wp-content/uploads/2025/08/Screenshot-2025-08-21-at-3.47.08-PM.png
END:VEVENT
END:VCALENDAR