BEGIN:VCALENDAR
VERSION:2.0
PRODID:-//AGORA Ministries - ECPv6.15.20//NONSGML v1.0//EN
CALSCALE:GREGORIAN
METHOD:PUBLISH
X-ORIGINAL-URL:https://agoraministries.com
X-WR-CALDESC:Events for AGORA Ministries
REFRESH-INTERVAL;VALUE=DURATION:PT1H
X-Robots-Tag:noindex
X-PUBLISHED-TTL:PT1H
BEGIN:VTIMEZONE
TZID:America/Chicago
BEGIN:DAYLIGHT
TZOFFSETFROM:-0600
TZOFFSETTO:-0500
TZNAME:CDT
DTSTART:20240310T080000
END:DAYLIGHT
BEGIN:STANDARD
TZOFFSETFROM:-0500
TZOFFSETTO:-0600
TZNAME:CST
DTSTART:20241103T070000
END:STANDARD
BEGIN:DAYLIGHT
TZOFFSETFROM:-0600
TZOFFSETTO:-0500
TZNAME:CDT
DTSTART:20250309T080000
END:DAYLIGHT
BEGIN:STANDARD
TZOFFSETFROM:-0500
TZOFFSETTO:-0600
TZNAME:CST
DTSTART:20251102T070000
END:STANDARD
BEGIN:DAYLIGHT
TZOFFSETFROM:-0600
TZOFFSETTO:-0500
TZNAME:CDT
DTSTART:20260308T080000
END:DAYLIGHT
BEGIN:STANDARD
TZOFFSETFROM:-0500
TZOFFSETTO:-0600
TZNAME:CST
DTSTART:20261101T070000
END:STANDARD
END:VTIMEZONE
BEGIN:VEVENT
DTSTART;TZID=America/Chicago:20251031T183000
DTEND;TZID=America/Chicago:20251031T203000
DTSTAMP:20260423T184116
CREATED:20250925T170054Z
LAST-MODIFIED:20250925T171004Z
UID:14042-1761935400-1761942600@agoraministries.com
SUMMARY:GFC Westside Light the Night
DESCRIPTION:Join us for a fun and faith-filled night as we LIGHT UP THE WESTSIDE this October 31st! \nThis FREE community event is for families of all ages — come enjoy: \n✨ Fun Games\n🎶 Live Worship\n🍬 Lots of Candy\n🎉 Safe & Family-Friendly Environment \nyou’re invited!! \nHosted by Gateway Fellowship Church Westside \n📅 Date: Thursday\, October 31st\n🕕 Time: 6:30-8:30pm\n📍 Location: Gateway Fellowship Church Westside – 1103 Merida San Antonio\, TX 78207
URL:https://agoraministries.com/event/gfc-westside-light-the-night/
LOCATION:AGORA Cassianos\, 1103 Merida\, San Antonio\, TX\, 78207\, United States
ATTACH;FMTTYPE=image/png:https://agoraministries.com/wp-content/uploads/2025/09/Untitled.png
END:VEVENT
END:VCALENDAR