BEGIN:VCALENDAR
VERSION:2.0
PRODID:-//AGORA Ministries - ECPv6.15.20//NONSGML v1.0//EN
CALSCALE:GREGORIAN
METHOD:PUBLISH
X-ORIGINAL-URL:https://agoraministries.com
X-WR-CALDESC:Events for AGORA Ministries
REFRESH-INTERVAL;VALUE=DURATION:PT1H
X-Robots-Tag:noindex
X-PUBLISHED-TTL:PT1H
BEGIN:VTIMEZONE
TZID:America/Chicago
BEGIN:DAYLIGHT
TZOFFSETFROM:-0600
TZOFFSETTO:-0500
TZNAME:CDT
DTSTART:20240310T080000
END:DAYLIGHT
BEGIN:STANDARD
TZOFFSETFROM:-0500
TZOFFSETTO:-0600
TZNAME:CST
DTSTART:20241103T070000
END:STANDARD
BEGIN:DAYLIGHT
TZOFFSETFROM:-0600
TZOFFSETTO:-0500
TZNAME:CDT
DTSTART:20250309T080000
END:DAYLIGHT
BEGIN:STANDARD
TZOFFSETFROM:-0500
TZOFFSETTO:-0600
TZNAME:CST
DTSTART:20251102T070000
END:STANDARD
BEGIN:DAYLIGHT
TZOFFSETFROM:-0600
TZOFFSETTO:-0500
TZNAME:CDT
DTSTART:20260308T080000
END:DAYLIGHT
BEGIN:STANDARD
TZOFFSETFROM:-0500
TZOFFSETTO:-0600
TZNAME:CST
DTSTART:20261101T070000
END:STANDARD
END:VTIMEZONE
BEGIN:VEVENT
DTSTART;TZID=America/Chicago:20251101T103000
DTEND;TZID=America/Chicago:20251101T133000
DTSTAMP:20260423T184116
CREATED:20250117T160256Z
LAST-MODIFIED:20250117T160256Z
UID:13723-1761993000-1762003800@agoraministries.com
SUMMARY:AGORA Kids
DESCRIPTION:AGORA Kids is a time of fun and Bible teaching\, we currently host it twice a month on Saturday afternoons.\nWe pick up the kids and bring them to hang out in a local park/ area. We play games with them\, have a devotional with crafts to go along\, and end the time with snacks and more fun 🙂\nVolunteers help with teaching\, food\, games\, and forming relationships with the kids. \n🗓️ Save the Date: 1st\, 2nd\, and 3rd Saturday of the month \n🕚 Time: 11 am to 1 pm (Volunteer hours: 10:30 am to 1:30 pm)
URL:https://agoraministries.com/event/agora-kids-22/
ATTACH;FMTTYPE=image/jpeg:https://agoraministries.com/wp-content/uploads/2025/01/IMG_4605.jpg
ORGANIZER;CN="AGORA Ministries":MAILTO:info@agoraministries.com
END:VEVENT
END:VCALENDAR