BEGIN:VCALENDAR
VERSION:2.0
PRODID:-//AGORA Ministries - ECPv6.15.20//NONSGML v1.0//EN
CALSCALE:GREGORIAN
METHOD:PUBLISH
X-ORIGINAL-URL:https://agoraministries.com
X-WR-CALDESC:Events for AGORA Ministries
REFRESH-INTERVAL;VALUE=DURATION:PT1H
X-Robots-Tag:noindex
X-PUBLISHED-TTL:PT1H
BEGIN:VTIMEZONE
TZID:America/Chicago
BEGIN:DAYLIGHT
TZOFFSETFROM:-0600
TZOFFSETTO:-0500
TZNAME:CDT
DTSTART:20250309T080000
END:DAYLIGHT
BEGIN:STANDARD
TZOFFSETFROM:-0500
TZOFFSETTO:-0600
TZNAME:CST
DTSTART:20251102T070000
END:STANDARD
BEGIN:DAYLIGHT
TZOFFSETFROM:-0600
TZOFFSETTO:-0500
TZNAME:CDT
DTSTART:20260308T080000
END:DAYLIGHT
BEGIN:STANDARD
TZOFFSETFROM:-0500
TZOFFSETTO:-0600
TZNAME:CST
DTSTART:20261101T070000
END:STANDARD
BEGIN:DAYLIGHT
TZOFFSETFROM:-0600
TZOFFSETTO:-0500
TZNAME:CDT
DTSTART:20270314T080000
END:DAYLIGHT
BEGIN:STANDARD
TZOFFSETFROM:-0500
TZOFFSETTO:-0600
TZNAME:CST
DTSTART:20271107T070000
END:STANDARD
END:VTIMEZONE
BEGIN:VEVENT
DTSTART;TZID=America/Chicago:20260225T110000
DTEND;TZID=America/Chicago:20260225T120000
DTSTAMP:20260423T130118
CREATED:20260216T211902Z
LAST-MODIFIED:20260216T212008Z
UID:14209-1772017200-1772020800@agoraministries.com
SUMMARY:Hope Pantry
DESCRIPTION:Hope Pantry is our bi-monthly relationship ministry with food distribution. Our goal is not just to feed but to build relationships with our families. Our Hope Pantry is the place this begins. We share tacos\, cookies\, coffee\, and water with our families; we break bread together. Then we have a short bilingual service and a food distribution. Our Hope Pantry is every 2nd and 4th Wednesday of the month. Join us in serving our community!  \nSave the Date: Every 2nd and 4th Wednesday of the month.  \nTime: 11am-12pm (Volunteer hours 8:30am – 1pm)
URL:https://agoraministries.com/event/hope-pantry-29/
LOCATION:AGORA Cassianos\, 1103 Merida\, San Antonio\, TX\, 78207\, United States
ORGANIZER;CN="AGORA Ministries":MAILTO:info@agoraministries.com
END:VEVENT
BEGIN:VEVENT
DTSTART;TZID=America/Chicago:20260318T110000
DTEND;TZID=America/Chicago:20260318T120000
DTSTAMP:20260423T130118
CREATED:20260216T214653Z
LAST-MODIFIED:20260303T190455Z
UID:14211-1773831600-1773835200@agoraministries.com
SUMMARY:Hope Pantry
DESCRIPTION:Facebook Twitter LinkedInMore \nHope Pantry is our bi-monthly relationship ministry with food distribution. Our goal is not just to feed but to build relationships with our families. Our Hope Pantry is the place this begins. We share tacos\, cookies\, coffee\, and water with our families; we break bread together. Then we have a short bilingual service and a food distribution. Our Hope Pantry is every 2nd and 4th Wednesday of the month. Join us in serving our community! \nSave the Date: Every 2nd and 4th Wednesday of the month. \nTime: 11am-12pm (Volunteer hours 8:30am – 1pm)
URL:https://agoraministries.com/event/hope-pantry-30/
LOCATION:AGORA Alazan\, 1807 San Fernando\, San Antonio\, 78207\, United States
ORGANIZER;CN="AGORA Ministries":MAILTO:info@agoraministries.com
END:VEVENT
BEGIN:VEVENT
DTSTART;TZID=America/Chicago:20260325T110000
DTEND;TZID=America/Chicago:20260325T120000
DTSTAMP:20260423T130118
CREATED:20260216T215342Z
LAST-MODIFIED:20260216T220901Z
UID:14215-1774436400-1774440000@agoraministries.com
SUMMARY:Hope Pantry
DESCRIPTION:Hope Pantry is our bi-monthly relationship ministry with food distribution. Our goal is not just to feed but to build relationships with our families. Our Hope Pantry is the place this begins. We share tacos\, cookies\, coffee\, and water with our families; we break bread together. Then we have a short bilingual service and a food distribution. Our Hope Pantry is every 2nd and 4th Wednesday of the month. Join us in serving our community! \nSave the Date: Every 2nd and 4th Wednesday of the month. \nTime: 11am-12pm (Volunteer hours 8:30am – 1pm)
URL:https://agoraministries.com/event/hope-pantry-31/
LOCATION:AGORA Cassianos\, 1103 Merida\, San Antonio\, TX\, 78207\, United States
ORGANIZER;CN="AGORA Ministries":MAILTO:info@agoraministries.com
END:VEVENT
BEGIN:VEVENT
DTSTART;TZID=America/Chicago:20260408T110000
DTEND;TZID=America/Chicago:20260408T120000
DTSTAMP:20260423T130118
CREATED:20260216T220621Z
LAST-MODIFIED:20260216T220621Z
UID:14217-1775646000-1775649600@agoraministries.com
SUMMARY:Hope Pantry
DESCRIPTION:Hope Pantry is our bi-monthly relationship ministry with food distribution. Our goal is not just to feed but to build relationships with our families. Our Hope Pantry is the place this begins. We share tacos\, cookies\, coffee\, and water with our families; we break bread together. Then we have a short bilingual service and a food distribution. Our Hope Pantry is every 2nd and 4th Wednesday of the month. Join us in serving our community! \nSave the Date: Every 2nd and 4th Wednesday of the month. \nTime: 11am-12pm (Volunteer hours 8:30am – 1pm)
URL:https://agoraministries.com/event/hope-pantry-32/
LOCATION:AGORA Alazan\, 1807 San Fernando\, San Antonio\, 78207\, United States
ORGANIZER;CN="AGORA Ministries":MAILTO:info@agoraministries.com
END:VEVENT
END:VCALENDAR