BEGIN:VCALENDAR
VERSION:2.0
PRODID:-//AGORA Ministries - ECPv6.15.20//NONSGML v1.0//EN
CALSCALE:GREGORIAN
METHOD:PUBLISH
X-WR-CALNAME:AGORA Ministries
X-ORIGINAL-URL:https://agoraministries.com
X-WR-CALDESC:Events for AGORA Ministries
REFRESH-INTERVAL;VALUE=DURATION:PT1H
X-Robots-Tag:noindex
X-PUBLISHED-TTL:PT1H
BEGIN:VTIMEZONE
TZID:America/Chicago
BEGIN:DAYLIGHT
TZOFFSETFROM:-0600
TZOFFSETTO:-0500
TZNAME:CDT
DTSTART:20230312T080000
END:DAYLIGHT
BEGIN:STANDARD
TZOFFSETFROM:-0500
TZOFFSETTO:-0600
TZNAME:CST
DTSTART:20231105T070000
END:STANDARD
BEGIN:DAYLIGHT
TZOFFSETFROM:-0600
TZOFFSETTO:-0500
TZNAME:CDT
DTSTART:20240310T080000
END:DAYLIGHT
BEGIN:STANDARD
TZOFFSETFROM:-0500
TZOFFSETTO:-0600
TZNAME:CST
DTSTART:20241103T070000
END:STANDARD
BEGIN:DAYLIGHT
TZOFFSETFROM:-0600
TZOFFSETTO:-0500
TZNAME:CDT
DTSTART:20250309T080000
END:DAYLIGHT
BEGIN:STANDARD
TZOFFSETFROM:-0500
TZOFFSETTO:-0600
TZNAME:CST
DTSTART:20251102T070000
END:STANDARD
END:VTIMEZONE
BEGIN:VEVENT
DTSTART;TZID=America/Chicago:20240123T110000
DTEND;TZID=America/Chicago:20240123T130000
DTSTAMP:20260425T053540
CREATED:20240123T200631Z
LAST-MODIFIED:20240123T200631Z
UID:12680-1706007600-1706014800@agoraministries.com
SUMMARY:AGORA Kids
DESCRIPTION:AGORA Kids is a time of fun and Bible teaching; we currently host it twice a month on Saturday afternoons.\nWe pick up the kids and bring them to hang out in a local park/ area. We play games with them\, have a devotional with crafts to go along\, and end the time with snacks and more fun 🙂\nVolunteers help with teaching\, food\, games\, and forming relationships with the kids. \n🗓️ Save the Date: 1st and 3rd Saturdays of the month \n🕚 Time: 11 am to 1 pm (Volunteer hours: 10:30 am to 1:30 pm)
URL:https://agoraministries.com/event/agora-kids-2/
ATTACH;FMTTYPE=image/jpeg:https://agoraministries.com/wp-content/uploads/2024/01/IMG_4605.jpg
END:VEVENT
BEGIN:VEVENT
DTSTART;TZID=America/Chicago:20240120T113000
DTEND;TZID=America/Chicago:20240120T130000
DTSTAMP:20260425T053540
CREATED:20240118T164227Z
LAST-MODIFIED:20240408T203941Z
UID:12698-1705750200-1705755600@agoraministries.com
SUMMARY:AGORA Kids
DESCRIPTION:AGORA Kids is a time of fun and Bible teaching\, we currently host it twice a month on Saturday afternoons.\nWe pick up the kids and bring them to hang out in a local park/ area. We play games with them\, have a devotional with crafts to go along\, and end the time with snacks and more fun 🙂\nVolunteers help with teaching\, food\, games\, and forming relationships with the kids. \n🗓️ Save the Date: 1st and 3rd Saturdays of the month \n🕚 Time: 11 am to 1 pm (Volunteer hours: 10:30 am to 1:30 pm)
URL:https://agoraministries.com/event/agora-kids/
LOCATION:Loma Vista at Cassiano Homes\, 1217 Loma Linda\, San Antonio\, TX\, 78207\, United States
ATTACH;FMTTYPE=image/jpeg:https://agoraministries.com/wp-content/uploads/2024/01/IMG_4605.jpg
ORGANIZER;CN="AGORA Ministries":MAILTO:info@agoraministries.com
END:VEVENT
BEGIN:VEVENT
DTSTART;TZID=America/Chicago:20240119T183000
DTEND;TZID=America/Chicago:20240119T203000
DTSTAMP:20260425T053540
CREATED:20240117T200711Z
LAST-MODIFIED:20240123T173149Z
UID:12587-1705689000-1705696200@agoraministries.com
SUMMARY:AGORA Youth
DESCRIPTION:In our community\, a pressing need can’t be ignored. We’re grappling with high levels of fatherlessness\, poverty\, abuse\, and rock-bottom education rates. What we’re convinced about is the essential requirement for a youth ministry centered on relationships. \nThe key to transforming lives lies in assembling a team of leaders committed to connecting with the youth exactly where they are. These leaders will provide emotional and spiritual support to guide the youth toward a personal relationship with Christ. Our ministry is all about building these meaningful connections. \nJoin us for a vibrant lineup of activities\, including weekly services\, intimate small groups\, soulful worship sessions\, adventurous youth outreach\, festive seasonal events\, creative fine arts endeavors\, impactful serving projects\, one-on-one mentoring\, exhilarating youth conventions\, and unforgettable youth camps. Let’s embark on a journey of positive change and personal growth together. \n\n🗓️ Save the Date: First 3 Fridays of the month \n🕚 Time: 6:30 pm to 8:30 pm (Volunteer hours: 6 pm to 9 pm) \n\n\n\n\n 
URL:https://agoraministries.com/event/agora-youth/
LOCATION:AGORA Alazan\, 1807 San Fernando\, San Antonio\, 78207\, United States
ATTACH;FMTTYPE=image/jpeg:https://agoraministries.com/wp-content/uploads/2022/10/E95343C8-0A38-47C6-84C8-DB63F264F2C5.jpeg
END:VEVENT
BEGIN:VEVENT
DTSTART;TZID=America/Chicago:20240110T110000
DTEND;TZID=America/Chicago:20240110T120000
DTSTAMP:20260425T053540
CREATED:20240117T210547Z
LAST-MODIFIED:20240408T165520Z
UID:12656-1704884400-1704888000@agoraministries.com
SUMMARY:Hope Pantry
DESCRIPTION:Hope Pantry is our bi-monthly relationship ministry with food distribution. Our goal is not just to feed but to build relationships with our families. Our Hope pantry is the place this begins. We share tacos\, donuts\, coffee\, and water with our families; we break bread together. Then we have a short bi-lingual service and a food distribution. Our Hope pantry is every 2nd and 4th Wednesday of the month. Join us in serving our community! \n🗓️ Save the Date: Every 2nd and 4th Wednesday of the month \n🕚 Time: 11 am to 12 pm (Volunteer hours: 9 am to 1 pm)
URL:https://agoraministries.com/event/hope-pantry-2/
LOCATION:AGORA Alazan\, 1807 San Fernando\, San Antonio\, 78207\, United States
ATTACH;FMTTYPE=image/jpeg:https://agoraministries.com/wp-content/uploads/2024/01/52635683450_b22dd81d47_k.jpg
ORGANIZER;CN="AGORA Ministries":MAILTO:info@agoraministries.com
END:VEVENT
END:VCALENDAR