BEGIN:VCALENDAR
VERSION:2.0
PRODID:-//AGORA Ministries - ECPv6.15.20//NONSGML v1.0//EN
CALSCALE:GREGORIAN
METHOD:PUBLISH
X-ORIGINAL-URL:https://agoraministries.com
X-WR-CALDESC:Events for AGORA Ministries
REFRESH-INTERVAL;VALUE=DURATION:PT1H
X-Robots-Tag:noindex
X-PUBLISHED-TTL:PT1H
BEGIN:VTIMEZONE
TZID:America/Chicago
BEGIN:DAYLIGHT
TZOFFSETFROM:-0600
TZOFFSETTO:-0500
TZNAME:CDT
DTSTART:20240310T080000
END:DAYLIGHT
BEGIN:STANDARD
TZOFFSETFROM:-0500
TZOFFSETTO:-0600
TZNAME:CST
DTSTART:20241103T070000
END:STANDARD
BEGIN:DAYLIGHT
TZOFFSETFROM:-0600
TZOFFSETTO:-0500
TZNAME:CDT
DTSTART:20250309T080000
END:DAYLIGHT
BEGIN:STANDARD
TZOFFSETFROM:-0500
TZOFFSETTO:-0600
TZNAME:CST
DTSTART:20251102T070000
END:STANDARD
BEGIN:DAYLIGHT
TZOFFSETFROM:-0600
TZOFFSETTO:-0500
TZNAME:CDT
DTSTART:20260308T080000
END:DAYLIGHT
BEGIN:STANDARD
TZOFFSETFROM:-0500
TZOFFSETTO:-0600
TZNAME:CST
DTSTART:20261101T070000
END:STANDARD
END:VTIMEZONE
BEGIN:VEVENT
DTSTART;TZID=America/Chicago:20250301T090000
DTEND;TZID=America/Chicago:20250301T140000
DTSTAMP:20260424T064545
CREATED:20250105T180911Z
LAST-MODIFIED:20250105T180911Z
UID:13654-1740819600-1740837600@agoraministries.com
SUMMARY:AGORA Youth Construction
DESCRIPTION:🚧 Hey Future Builders! 🛠️\n\n\n\n\n\n\n\n\nReady to turn your passion for construction into an epic adventure? Agora has the perfect gig for you – our Youth Construction Internship! 🌟 We’re not just about nuts\, bolts\, and blueprints; we’re all about building lives\, literally and metaphorically. \n\n\n\n\n\n🏗️ Why Agora’s Construction Internship is a Blast: \n\nHands-On Mastery: Learn the ins and outs of construction from the best in the game. Tools\, tricks\, and teamwork—get ready to rock the construction world!\nFaith-infused Learning: We’re not just constructing buildings; we’re constructing lives. Let’s explore God’s blueprints while mastering construction techniques.\nSpiritual and Physical Prep: Gear up for a unique experience that prepares you both for the concrete jungle and the spiritual path ahead.\n\n🔨 What’s on the Building Agenda: \n\nTool Time Fun: Master the tools of the trade with a side of laughter.\nFaith Foundation: Learn to build not just structures but a solid foundation in God’s Word: The Bible.\nTeam Triumph: Because building together is way more fun.\n\n🏡 Our Heart’s Beat: At Agora\, we’re not just passionate about construction; we’re passionate about discipleship. This internship is where we blend the best of both worlds—construction and faith—creating an unforgettable experience that shapes your future. \n🚀 How to Dive In: Excited to swing that hammer and discover the secrets of construction and faith? Call or fill out an inquiry form now to unwrap all the deets and snag your spot in this extraordinary construction journey! \n📞 [(210)247-8494] ☎️ 📧 https://agoraministries.com/contactus/📬 \nLet’s not just build structures; let’s build a future grounded in faith and construction brilliance. Agora’s Construction Internship is calling your name—answer the call!
URL:https://agoraministries.com/event/agora-youth-construction-4/
ATTACH;FMTTYPE=image/jpeg:https://agoraministries.com/wp-content/uploads/2025/01/IMG_0765.jpeg
ORGANIZER;CN="AGORA Ministries":MAILTO:info@agoraministries.com
END:VEVENT
BEGIN:VEVENT
DTSTART;VALUE=DATE:20250308
DTEND;VALUE=DATE:20250312
DTSTAMP:20260424T064545
CREATED:20240821T145003Z
LAST-MODIFIED:20240821T145003Z
UID:13428-1741392000-1741737599@agoraministries.com
SUMMARY:AGORA Spring Street Camp 1
DESCRIPTION:AGORA Street Camp is an intense missions trip where students will SERVE\, SHARE\, and GROW. Attendees will be in an -inner-city environment in San Antonio\, TX\, serving in our city’s greatest area of need. For more information about our mission trips\, CLICK HERE!
URL:https://agoraministries.com/event/agora-spring-street-camp-1/
ATTACH;FMTTYPE=image/jpeg:https://agoraministries.com/wp-content/uploads/2024/08/Street-Camp-4.jpg
ORGANIZER;CN="AGORA Ministries":MAILTO:info@agoraministries.com
END:VEVENT
BEGIN:VEVENT
DTSTART;TZID=America/Chicago:20250309T140000
DTEND;TZID=America/Chicago:20250309T170000
DTSTAMP:20260424T064545
CREATED:20250308T185839Z
LAST-MODIFIED:20250308T191958Z
UID:13785-1741528800-1741539600@agoraministries.com
SUMMARY:Family Day Outreach w/ Gateway Westside
DESCRIPTION:Family Day Outreach at Gateway Westside Church! \nJoin us for a fun day out! We’ve got food\, exciting games\, lively dances\, and a bounce house for the kids. Bring your family and friends and enjoy a day full of fun and laughter! \n 
URL:https://agoraministries.com/event/family-day-outreach-w-gateway-westside/
LOCATION:AGORA Cassianos\, 1103 Merida\, San Antonio\, TX\, 78207\, United States
ATTACH;FMTTYPE=image/jpeg:https://agoraministries.com/wp-content/uploads/2025/03/Colorful-Bold-Kids-Summer-Camp-1.jpg
ORGANIZER;CN="AGORA Ministries":MAILTO:info@agoraministries.com
END:VEVENT
BEGIN:VEVENT
DTSTART;VALUE=DATE:20250312
DTEND;VALUE=DATE:20250317
DTSTAMP:20260424T064545
CREATED:20240821T145406Z
LAST-MODIFIED:20240821T145406Z
UID:13432-1741737600-1742169599@agoraministries.com
SUMMARY:AGORA Spring Street Camp 2
DESCRIPTION:AGORA Street Camp is an intense missions trip where students will SERVE\, SHARE\, and GROW. Attendees will be in an -inner-city environment in San Antonio\, TX\, serving in our city’s greatest area of need. For more information about our mission trips\, CLICK HERE!
URL:https://agoraministries.com/event/agora-spring-street-camp-2/
ATTACH;FMTTYPE=image/jpeg:https://agoraministries.com/wp-content/uploads/2024/08/Street-Camp-4-1.jpg
ORGANIZER;CN="AGORA Ministries":MAILTO:info@agoraministries.com
END:VEVENT
BEGIN:VEVENT
DTSTART;TZID=America/Chicago:20250326T110000
DTEND;TZID=America/Chicago:20250326T130000
DTSTAMP:20260424T064545
CREATED:20250105T171241Z
LAST-MODIFIED:20250105T171241Z
UID:13608-1742986800-1742994000@agoraministries.com
SUMMARY:Hope Pantry
DESCRIPTION:Hope Pantry is our bi-monthly relationship ministry with food distribution. Our goal is not just to feed but to build relationships with our families. Our Hope pantry is the place this begins. We share tacos\, donuts\, coffee\, and water with our families; we break bread together. Then we have a short bi-lingual service and a food distribution. Our Hope pantry is every 2nd and 4th Wednesday of the month. Join us in serving our community! \n🗓️ Save the Date: Every 2nd and 4th Wednesday of the month \n🕚 Time: 11 am to 12 pm (Volunteer hours: 9 am to 1 pm)
URL:https://agoraministries.com/event/hope-pantry-6/
LOCATION:AGORA Cassianos\, 1103 Merida\, San Antonio\, TX\, 78207\, United States
ATTACH;FMTTYPE=image/jpeg:https://agoraministries.com/wp-content/uploads/2025/01/IMG_1409-1-scaled.jpeg
ORGANIZER;CN="AGORA Ministries":MAILTO:info@agoraministries.com
END:VEVENT
END:VCALENDAR