BEGIN:VCALENDAR
VERSION:2.0
PRODID:-//AGORA Ministries - ECPv6.15.20//NONSGML v1.0//EN
CALSCALE:GREGORIAN
METHOD:PUBLISH
X-WR-CALNAME:AGORA Ministries
X-ORIGINAL-URL:https://agoraministries.com
X-WR-CALDESC:Events for AGORA Ministries
REFRESH-INTERVAL;VALUE=DURATION:PT1H
X-Robots-Tag:noindex
X-PUBLISHED-TTL:PT1H
BEGIN:VTIMEZONE
TZID:America/Chicago
BEGIN:DAYLIGHT
TZOFFSETFROM:-0600
TZOFFSETTO:-0500
TZNAME:CDT
DTSTART:20240310T080000
END:DAYLIGHT
BEGIN:STANDARD
TZOFFSETFROM:-0500
TZOFFSETTO:-0600
TZNAME:CST
DTSTART:20241103T070000
END:STANDARD
BEGIN:DAYLIGHT
TZOFFSETFROM:-0600
TZOFFSETTO:-0500
TZNAME:CDT
DTSTART:20250309T080000
END:DAYLIGHT
BEGIN:STANDARD
TZOFFSETFROM:-0500
TZOFFSETTO:-0600
TZNAME:CST
DTSTART:20251102T070000
END:STANDARD
BEGIN:DAYLIGHT
TZOFFSETFROM:-0600
TZOFFSETTO:-0500
TZNAME:CDT
DTSTART:20260308T080000
END:DAYLIGHT
BEGIN:STANDARD
TZOFFSETFROM:-0500
TZOFFSETTO:-0600
TZNAME:CST
DTSTART:20261101T070000
END:STANDARD
END:VTIMEZONE
BEGIN:VEVENT
DTSTART;VALUE=DATE:20250602
DTEND;VALUE=DATE:20250607
DTSTAMP:20260424T012821
CREATED:20240821T153828Z
LAST-MODIFIED:20240821T153828Z
UID:13437-1748822400-1749254399@agoraministries.com
SUMMARY:AGORA Summer Street Camp 1
DESCRIPTION:AGORA Street Camp is an intense missions trip where students will SERVE\, SHARE\, and GROW. Attendees will be in an -inner-city environment in San Antonio\, TX\, serving in our city’s greatest area of need. For more information about our mission trips\, CLICK HERE!
URL:https://agoraministries.com/event/agora-summer-street-camp-1/
ATTACH;FMTTYPE=image/jpeg:https://agoraministries.com/wp-content/uploads/2024/08/Street-Camp3-.jpg
ORGANIZER;CN="AGORA Ministries":MAILTO:info@agoraministries.com
END:VEVENT
BEGIN:VEVENT
DTSTART;VALUE=DATE:20250609
DTEND;VALUE=DATE:20250614
DTSTAMP:20260424T012821
CREATED:20240821T154318Z
LAST-MODIFIED:20240821T154318Z
UID:13440-1749427200-1749859199@agoraministries.com
SUMMARY:AGORA Summer Street Camp 2 (Houston)
DESCRIPTION:AGORA Street Camp is an intense missions trip where students will SERVE\, SHARE\, and GROW. Attendees will be in an -inner-city environment in Houston\, TX\, serving in our city’s greatest area of need. For more information about our mission trips\, CLICK HERE!
URL:https://agoraministries.com/event/agora-summer-street-camp-2-houston/
ATTACH;FMTTYPE=image/jpeg:https://agoraministries.com/wp-content/uploads/2024/08/Street-camp-2.jpg
ORGANIZER;CN="AGORA Ministries":MAILTO:info@agoraministries.com
END:VEVENT
BEGIN:VEVENT
DTSTART;TZID=America/Chicago:20250611T110000
DTEND;TZID=America/Chicago:20250611T130000
DTSTAMP:20260424T012821
CREATED:20250105T175618Z
LAST-MODIFIED:20250105T175618Z
UID:13641-1749639600-1749646800@agoraministries.com
SUMMARY:Hope Pantry
DESCRIPTION:Hope Pantry is our bi-monthly relationship ministry with food distribution. Our goal is not just to feed but to build relationships with our families. Our Hope pantry is the place this begins. We share tacos\, donuts\, coffee\, and water with our families; we break bread together. Then we have a short bi-lingual service and a food distribution. Our Hope pantry is every 2nd and 4th Wednesday of the month. Join us in serving our community! \n🗓️ Save the Date: Every 2nd and 4th Wednesday of the month \n🕚 Time: 11 am to 12 pm (Volunteer hours: 9 am to 1 pm)
URL:https://agoraministries.com/event/hope-pantry-21/
LOCATION:AGORA Alazan\, 1807 San Fernando\, San Antonio\, 78207\, United States
ATTACH;FMTTYPE=image/jpeg:https://agoraministries.com/wp-content/uploads/2025/01/IMG_3068-1-scaled.jpeg
ORGANIZER;CN="AGORA Ministries":MAILTO:info@agoraministries.com
END:VEVENT
BEGIN:VEVENT
DTSTART;TZID=America/Chicago:20250617T160000
DTEND;TZID=America/Chicago:20250617T180000
DTSTAMP:20260424T012821
CREATED:20250616T163025Z
LAST-MODIFIED:20250616T163508Z
UID:13896-1750176000-1750183200@agoraministries.com
SUMMARY:Sole Outreach
DESCRIPTION:FREE SHOES!! \nCome on out and get some free shoes. K-12 grade (students) only!. First come\, first served only\, parents MUST be present with the child to receive \n4 PM-6 PM \n1807 San Fernando San Antonio\, Tx 78207 \nBring your chairs if needed and an umbrella. \n  \nWe look forward to seeing you! \n 
URL:https://agoraministries.com/event/sole-outreach-2/
END:VEVENT
BEGIN:VEVENT
DTSTART;TZID=America/Chicago:20250625T110000
DTEND;TZID=America/Chicago:20250625T130000
DTSTAMP:20260424T012821
CREATED:20250105T172632Z
LAST-MODIFIED:20250105T172632Z
UID:13617-1750849200-1750856400@agoraministries.com
SUMMARY:Hope Pantry
DESCRIPTION:Hope Pantry is our bi-monthly relationship ministry with food distribution. Our goal is not just to feed but to build relationships with our families. Our Hope pantry is the place this begins. We share tacos\, donuts\, coffee\, and water with our families; we break bread together. Then we have a short bi-lingual service and a food distribution. Our Hope pantry is every 2nd and 4th Wednesday of the month. Join us in serving our community! \n🗓️ Save the Date: Every 2nd and 4th Wednesday of the month \n🕚 Time: 11 am to 12 pm (Volunteer hours: 9 am to 1 pm)
URL:https://agoraministries.com/event/hope-pantry-10/
LOCATION:AGORA Cassianos\, 1103 Merida\, San Antonio\, TX\, 78207\, United States
ATTACH;FMTTYPE=image/jpeg:https://agoraministries.com/wp-content/uploads/2025/01/IMG_1409-1-scaled.jpeg
ORGANIZER;CN="AGORA Ministries":MAILTO:info@agoraministries.com
END:VEVENT
END:VCALENDAR