BEGIN:VCALENDAR
VERSION:2.0
PRODID:-//AGORA Ministries - ECPv6.15.20//NONSGML v1.0//EN
CALSCALE:GREGORIAN
METHOD:PUBLISH
X-WR-CALNAME:AGORA Ministries
X-ORIGINAL-URL:https://agoraministries.com
X-WR-CALDESC:Events for AGORA Ministries
REFRESH-INTERVAL;VALUE=DURATION:PT1H
X-Robots-Tag:noindex
X-PUBLISHED-TTL:PT1H
BEGIN:VTIMEZONE
TZID:America/Chicago
BEGIN:DAYLIGHT
TZOFFSETFROM:-0600
TZOFFSETTO:-0500
TZNAME:CDT
DTSTART:20240310T080000
END:DAYLIGHT
BEGIN:STANDARD
TZOFFSETFROM:-0500
TZOFFSETTO:-0600
TZNAME:CST
DTSTART:20241103T070000
END:STANDARD
BEGIN:DAYLIGHT
TZOFFSETFROM:-0600
TZOFFSETTO:-0500
TZNAME:CDT
DTSTART:20250309T080000
END:DAYLIGHT
BEGIN:STANDARD
TZOFFSETFROM:-0500
TZOFFSETTO:-0600
TZNAME:CST
DTSTART:20251102T070000
END:STANDARD
BEGIN:DAYLIGHT
TZOFFSETFROM:-0600
TZOFFSETTO:-0500
TZNAME:CDT
DTSTART:20260308T080000
END:DAYLIGHT
BEGIN:STANDARD
TZOFFSETFROM:-0500
TZOFFSETTO:-0600
TZNAME:CST
DTSTART:20261101T070000
END:STANDARD
END:VTIMEZONE
BEGIN:VEVENT
DTSTART;TZID=America/Chicago:20250802T103000
DTEND;TZID=America/Chicago:20250802T133000
DTSTAMP:20260423T215833
CREATED:20250117T155119Z
LAST-MODIFIED:20250117T155119Z
UID:13705-1754130600-1754141400@agoraministries.com
SUMMARY:AGORA Kids
DESCRIPTION:AGORA Kids is a time of fun and Bible teaching\, we currently host it twice a month on Saturday afternoons.\nWe pick up the kids and bring them to hang out in a local park/ area. We play games with them\, have a devotional with crafts to go along\, and end the time with snacks and more fun 🙂\nVolunteers help with teaching\, food\, games\, and forming relationships with the kids. \n🗓️ Save the Date: 1st\, 2nd\, and 3rd Saturday of the month \n🕚 Time: 11 am to 1 pm (Volunteer hours: 10:30 am to 1:30 pm)
URL:https://agoraministries.com/event/agora-kids-13/
ATTACH;FMTTYPE=image/jpeg:https://agoraministries.com/wp-content/uploads/2025/01/IMG_4605.jpg
ORGANIZER;CN="AGORA Ministries":MAILTO:info@agoraministries.com
END:VEVENT
BEGIN:VEVENT
DTSTART;TZID=America/Chicago:20250809T103000
DTEND;TZID=America/Chicago:20250809T133000
DTSTAMP:20260423T215833
CREATED:20250117T155227Z
LAST-MODIFIED:20250117T155227Z
UID:13707-1754735400-1754746200@agoraministries.com
SUMMARY:AGORA Kids
DESCRIPTION:AGORA Kids is a time of fun and Bible teaching\, we currently host it twice a month on Saturday afternoons.\nWe pick up the kids and bring them to hang out in a local park/ area. We play games with them\, have a devotional with crafts to go along\, and end the time with snacks and more fun 🙂\nVolunteers help with teaching\, food\, games\, and forming relationships with the kids. \n🗓️ Save the Date: 1st\, 2nd\, and 3rd Saturday of the month \n🕚 Time: 11 am to 1 pm (Volunteer hours: 10:30 am to 1:30 pm)
URL:https://agoraministries.com/event/agora-kids-14/
ATTACH;FMTTYPE=image/jpeg:https://agoraministries.com/wp-content/uploads/2025/01/IMG_4605.jpg
ORGANIZER;CN="AGORA Ministries":MAILTO:info@agoraministries.com
END:VEVENT
BEGIN:VEVENT
DTSTART;TZID=America/Chicago:20250813T110000
DTEND;TZID=America/Chicago:20250813T130000
DTSTAMP:20260423T215833
CREATED:20250105T180109Z
LAST-MODIFIED:20250105T180109Z
UID:13648-1755082800-1755090000@agoraministries.com
SUMMARY:Hope Pantry
DESCRIPTION:Hope Pantry is our bi-monthly relationship ministry with food distribution. Our goal is not just to feed but to build relationships with our families. Our Hope pantry is the place this begins. We share tacos\, donuts\, coffee\, and water with our families; we break bread together. Then we have a short bi-lingual service and a food distribution. Our Hope pantry is every 2nd and 4th Wednesday of the month. Join us in serving our community! \n🗓️ Save the Date: Every 2nd and 4th Wednesday of the month \n🕚 Time: 11 am to 12 pm (Volunteer hours: 9 am to 1 pm)
URL:https://agoraministries.com/event/hope-pantry-23/
LOCATION:AGORA Alazan\, 1807 San Fernando\, San Antonio\, 78207\, United States
ATTACH;FMTTYPE=image/jpeg:https://agoraministries.com/wp-content/uploads/2025/01/IMG_3068-1-scaled.jpeg
ORGANIZER;CN="AGORA Ministries":MAILTO:info@agoraministries.com
END:VEVENT
BEGIN:VEVENT
DTSTART;TZID=America/Chicago:20250816T090000
DTEND;TZID=America/Chicago:20250816T130000
DTSTAMP:20260423T215833
CREATED:20250814T165207Z
LAST-MODIFIED:20250814T165526Z
UID:13931-1755334800-1755349200@agoraministries.com
SUMMARY:PRIVATE EVENT! Back to school shoe giveaway
DESCRIPTION:Volunteers Needed – This Saturday \nThis Saturday\, we’ll be distributing shoes to pre-selected families only. These families have already been contacted and given specific arrival times\, so this announcement is for event volunteers only\, not the general public. \nWe especially need bilingual volunteers — if you are\, please let one of our staff know when you arrive. \n\n\nEvent time: 10:00 AM – 1:00 PM \n\nLocation: 1103 Merida San Antonio\, TX 78207\n\nVolunteer arrival: 9:00 AM \n\n\nVolunteer orientation: 9:15 AM \n\n\nWe have several stations that need coverage\, and we’re looking forward to serving together!
URL:https://agoraministries.com/event/private-event-back-to-school-shoe-giveaway/
LOCATION:AGORA Cassianos\, 1103 Merida\, San Antonio\, TX\, 78207\, United States
ORGANIZER;CN="AGORA Ministries":MAILTO:info@agoraministries.com
END:VEVENT
BEGIN:VEVENT
DTSTART;TZID=America/Chicago:20250816T103000
DTEND;TZID=America/Chicago:20250816T133000
DTSTAMP:20260423T215833
CREATED:20250117T155340Z
LAST-MODIFIED:20250117T155340Z
UID:13709-1755340200-1755351000@agoraministries.com
SUMMARY:AGORA Kids
DESCRIPTION:AGORA Kids is a time of fun and Bible teaching\, we currently host it twice a month on Saturday afternoons.\nWe pick up the kids and bring them to hang out in a local park/ area. We play games with them\, have a devotional with crafts to go along\, and end the time with snacks and more fun 🙂\nVolunteers help with teaching\, food\, games\, and forming relationships with the kids. \n🗓️ Save the Date: 1st\, 2nd\, and 3rd Saturday of the month \n🕚 Time: 11 am to 1 pm (Volunteer hours: 10:30 am to 1:30 pm)
URL:https://agoraministries.com/event/agora-kids-15/
ATTACH;FMTTYPE=image/jpeg:https://agoraministries.com/wp-content/uploads/2025/01/IMG_4605.jpg
ORGANIZER;CN="AGORA Ministries":MAILTO:info@agoraministries.com
END:VEVENT
BEGIN:VEVENT
DTSTART;TZID=America/Chicago:20250827T110000
DTEND;TZID=America/Chicago:20250827T130000
DTSTAMP:20260423T215833
CREATED:20250105T173253Z
LAST-MODIFIED:20250105T173253Z
UID:13623-1756292400-1756299600@agoraministries.com
SUMMARY:Hope Pantry
DESCRIPTION:Hope Pantry is our bi-monthly relationship ministry with food distribution. Our goal is not just to feed but to build relationships with our families. Our Hope pantry is the place this begins. We share tacos\, donuts\, coffee\, and water with our families; we break bread together. Then we have a short bi-lingual service and a food distribution. Our Hope pantry is every 2nd and 4th Wednesday of the month. Join us in serving our community! \n🗓️ Save the Date: Every 2nd and 4th Wednesday of the month \n🕚 Time: 11 am to 12 pm (Volunteer hours: 9 am to 1 pm)
URL:https://agoraministries.com/event/hope-pantry-12/
LOCATION:AGORA Cassianos\, 1103 Merida\, San Antonio\, TX\, 78207\, United States
ATTACH;FMTTYPE=image/jpeg:https://agoraministries.com/wp-content/uploads/2025/01/IMG_1409-scaled.jpeg
ORGANIZER;CN="AGORA Ministries":MAILTO:info@agoraministries.com
END:VEVENT
BEGIN:VEVENT
DTSTART;TZID=America/Chicago:20250827T110000
DTEND;TZID=America/Chicago:20250827T130000
DTSTAMP:20260423T215833
CREATED:20250105T173605Z
LAST-MODIFIED:20250105T173605Z
UID:13625-1756292400-1756299600@agoraministries.com
SUMMARY:Hope Pantry
DESCRIPTION:Hope Pantry is our bi-monthly relationship ministry with food distribution. Our goal is not just to feed but to build relationships with our families. Our Hope pantry is the place this begins. We share tacos\, donuts\, coffee\, and water with our families; we break bread together. Then we have a short bi-lingual service and a food distribution. Our Hope pantry is every 2nd and 4th Wednesday of the month. Join us in serving our community! \n🗓️ Save the Date: Every 2nd and 4th Wednesday of the month \n🕚 Time: 11 am to 12 pm (Volunteer hours: 9 am to 1 pm)
URL:https://agoraministries.com/event/hope-pantry-14/
LOCATION:AGORA Cassianos\, 1103 Merida\, San Antonio\, TX\, 78207\, United States
ATTACH;FMTTYPE=image/jpeg:https://agoraministries.com/wp-content/uploads/2025/01/IMG_1409-scaled.jpeg
ORGANIZER;CN="AGORA Ministries":MAILTO:info@agoraministries.com
END:VEVENT
BEGIN:VEVENT
DTSTART;TZID=America/Chicago:20250830T090000
DTEND;TZID=America/Chicago:20250830T130000
DTSTAMP:20260423T215833
CREATED:20250814T191004Z
LAST-MODIFIED:20250821T212639Z
UID:13936-1756544400-1756558800@agoraministries.com
SUMMARY:PRIVATE EVENT! Opportunity Homes Back to School Shoe Distribution
DESCRIPTION:Families \nWe’re Excited — Your Shoes Are Ready!\nIf you signed up\, we’ve got a pair of shoes waiting just for you!\nPlease bring a form of ID to pick them up.\nChildren must be present. \nPickup Time: Saturday\, August 30th \nEvent time: 10:00 AM – 12:00 PM\nLocation: 1103 Merida San Antonio\, TX 78207 \nWe can’t wait to see you there! \n¡Estamos emocionados! ¡Tus zapatos están listos!\nSi te inscribiste\, ¡tenemos un par de zapatos esperándote!\nPor favor\, trae una identificación para recogerlos.\nLos niños deben estar presentes.\nHora de recogida: Sábado 30 de agosto\, 10:00 a. m. a 12:00 p. m.\nUbicación: 1103 Merida\, San Antonio\, TX 78207\n¡Te esperamos! \n  \nVolunteers Needed – Saturday\, August 30th \nSaturday\, August 30th\, we’ll be distributing shoes to pre-selected families only. These families have already been contacted and given specific arrival times\, so this announcement is for event volunteers only\, not the general public. \nWe especially need bilingual volunteers — if you are\, please let one of our staff know when you arrive. \n\n\nEvent time: 10:00 AM – 1:00 PM \n\nLocation: 1103 Merida\n\nVolunteer arrival: 9:00 AM \n\n\nVolunteer orientation: 9:15 AM \n\n\nWe have several stations that need coverage\, and we’re looking forward to serving together!
URL:https://agoraministries.com/event/private-event-saha-back-to-school-shoe-giveaway/
LOCATION:AGORA Cassianos\, 1103 Merida\, San Antonio\, TX\, 78207\, United States
ATTACH;FMTTYPE=image/png:https://agoraministries.com/wp-content/uploads/2025/08/Screenshot-2025-08-21-at-3.47.08-PM.png
END:VEVENT
END:VCALENDAR