BEGIN:VCALENDAR
VERSION:2.0
PRODID:-//AGORA Ministries - ECPv6.15.20//NONSGML v1.0//EN
CALSCALE:GREGORIAN
METHOD:PUBLISH
X-WR-CALNAME:AGORA Ministries
X-ORIGINAL-URL:https://agoraministries.com
X-WR-CALDESC:Events for AGORA Ministries
REFRESH-INTERVAL;VALUE=DURATION:PT1H
X-Robots-Tag:noindex
X-PUBLISHED-TTL:PT1H
BEGIN:VTIMEZONE
TZID:America/Chicago
BEGIN:DAYLIGHT
TZOFFSETFROM:-0600
TZOFFSETTO:-0500
TZNAME:CDT
DTSTART:20230312T080000
END:DAYLIGHT
BEGIN:STANDARD
TZOFFSETFROM:-0500
TZOFFSETTO:-0600
TZNAME:CST
DTSTART:20231105T070000
END:STANDARD
BEGIN:DAYLIGHT
TZOFFSETFROM:-0600
TZOFFSETTO:-0500
TZNAME:CDT
DTSTART:20240310T080000
END:DAYLIGHT
BEGIN:STANDARD
TZOFFSETFROM:-0500
TZOFFSETTO:-0600
TZNAME:CST
DTSTART:20241103T070000
END:STANDARD
BEGIN:DAYLIGHT
TZOFFSETFROM:-0600
TZOFFSETTO:-0500
TZNAME:CDT
DTSTART:20250309T080000
END:DAYLIGHT
BEGIN:STANDARD
TZOFFSETFROM:-0500
TZOFFSETTO:-0600
TZNAME:CST
DTSTART:20251102T070000
END:STANDARD
END:VTIMEZONE
BEGIN:VEVENT
DTSTART;VALUE=DATE:20240309
DTEND;VALUE=DATE:20240314
DTSTAMP:20260420T133803
CREATED:20240118T170207Z
LAST-MODIFIED:20240309T180355Z
UID:12714-1709942400-1710374399@agoraministries.com
SUMMARY:Spring Camp 1
DESCRIPTION:AGORA Street Camp is an intense missions trip where students will SERVE\, SHARE\, and GROW. Attendees will be in an -inner-city environment in San Antonio\, TX\, serving in our city’s greatest area of need. For more information about our mission trips\, CLICK HERE!
URL:https://agoraministries.com/event/spring-camp-1/
ATTACH;FMTTYPE=image/jpeg:https://agoraministries.com/wp-content/uploads/2024/01/IMG_4606.jpg
END:VEVENT
BEGIN:VEVENT
DTSTART;TZID=America/Chicago:20240311T160000
DTEND;TZID=America/Chicago:20240311T180000
DTSTAMP:20260420T133803
CREATED:20240307T221220Z
LAST-MODIFIED:20240307T230424Z
UID:13036-1710172800-1710180000@agoraministries.com
SUMMARY:Sole Outreach
DESCRIPTION:1103 Merida San Antonio\, TX 78207 \nVolunteer Arrival: 2 pm on SUNDAY\, March 10 for orientation! \nLlegada de voluntarios: 2 pm el DOMINGO 10 de marzo para orientación. \nEvent Time: 4 pm-6 pm on MONDAY\, March 11 \nHora del evento: 4 p. m. a 6 p. m. el LUNES 11 de marzo \nVolunteer Arrival: 3 pm on MONDAY\, March 11 \nLlegada de voluntarios: 3 pm del LUNES 11 de marzo \nAreas of Volunteer Needs \nÁreas de necesidades de voluntariado \n\nShoe sizer- size the students and talk with and pray with families\n\nTalla de zapatos: calibrar a los estudiantes y hablar y orar con las familias. \n\nShoe runners- go to the pit to get a pair of shoes for the child\n\nCorredores de zapatos: ve a la fosa para conseguir un par de zapatos para la niña. \n\nFood prep- hot dogs\, chips\, drinks\n\nPreparación de alimentos: hot dogs\, papas fritas\, bebidas. \n\nCrowd control- games\, dance\, fun team\n\nControl de multitudes: juegos\, baile\, equipo divertido. \n\nTrash control- cleaning crew\n\nControl de basura- equipo de limpieza \n\nGophers: people to go for this and go for that\n\n\nTopos: la gente va por esto y por aquello
URL:https://agoraministries.com/event/sole-outreach/
LOCATION:AGORA Cassianos\, 1103 Merida\, San Antonio\, TX\, 78207\, United States
ATTACH;FMTTYPE=image/jpeg:https://agoraministries.com/wp-content/uploads/2024/03/June-7th-1.jpg
ORGANIZER;CN="AGORA Ministries":MAILTO:info@agoraministries.com
END:VEVENT
BEGIN:VEVENT
DTSTART;TZID=America/Chicago:20240129T190000
DTEND;TZID=America/Chicago:20240129T210000
DTSTAMP:20260420T133803
CREATED:20240123T212153Z
LAST-MODIFIED:20240130T165412Z
UID:12780-1706554800-1706562000@agoraministries.com
SUMMARY:AGORA YTH Mens Bible Study
DESCRIPTION:🔥 AGORA YTH: Mens Bible Study! 🔥\n\n\n\n\n\n\n\n\nGet ready to level up your Bible study game with Agora! 🚀 We believe in discipleship\, intentional connections\, and turning Bible study into the ultimate adventure. Are you ready to dive deeper into the Word of God and surround yourself with an awesome\, like-minded crew in a safe and healthy learning space? Heck yes! \n📖 What’s the Agora Vibe? Picture this: Epic discussions\, real connections\, and a whole lot of good vibes. Agora is where faith meets fun\, and Bible study becomes the coolest hangout in town. \n🌟 Why Agora? \n\nDiscipleship: We’re not just about reading verses; we’re about living them. Let’s navigate this journey together.\nIntentional Connections: It’s not just a study group; it’s your crew. Support\, laughter\, and growth—we’ve got it all.\nSafe Space: Our Bible study is a judgment-free area. No pressure\, just genuine exploration.\n\n🤘 What’s the Scoop? \n\nDeep Dives: Uncover the treasures hidden in the Word of God.\nEpic Conversations: Discuss life\, faith\, and everything in between.\nSnacks Galore: Because every good story is fueled by snacks!\n\n📍 When?: Every other Monday from 7 pm- 9 pm \n🎉 Ready to Ignite Your Faith? Just show up and be yourself! Whether you’re a Bible pro or just starting out\, you’re welcome. Bring your questions\, bring your stories\, and let’s make this journey unforgettable. \nGet stoked for the most awesome Bible study experience ever! Agora is calling\, and we can’t wait to see you there.
URL:https://agoraministries.com/event/agora-yth-mens-bible-study/
ATTACH;FMTTYPE=image/jpeg:https://agoraministries.com/wp-content/uploads/2024/01/IMG_6661.jpg
ORGANIZER;CN="AGORA Ministries":MAILTO:info@agoraministries.com
END:VEVENT
END:VCALENDAR