BEGIN:VCALENDAR
VERSION:2.0
PRODID:-//AGORA Ministries - ECPv6.15.20//NONSGML v1.0//EN
CALSCALE:GREGORIAN
METHOD:PUBLISH
X-ORIGINAL-URL:https://agoraministries.com
X-WR-CALDESC:Events for AGORA Ministries
REFRESH-INTERVAL;VALUE=DURATION:PT1H
X-Robots-Tag:noindex
X-PUBLISHED-TTL:PT1H
BEGIN:VTIMEZONE
TZID:America/Chicago
BEGIN:DAYLIGHT
TZOFFSETFROM:-0600
TZOFFSETTO:-0500
TZNAME:CDT
DTSTART:20240310T080000
END:DAYLIGHT
BEGIN:STANDARD
TZOFFSETFROM:-0500
TZOFFSETTO:-0600
TZNAME:CST
DTSTART:20241103T070000
END:STANDARD
BEGIN:DAYLIGHT
TZOFFSETFROM:-0600
TZOFFSETTO:-0500
TZNAME:CDT
DTSTART:20250309T080000
END:DAYLIGHT
BEGIN:STANDARD
TZOFFSETFROM:-0500
TZOFFSETTO:-0600
TZNAME:CST
DTSTART:20251102T070000
END:STANDARD
BEGIN:DAYLIGHT
TZOFFSETFROM:-0600
TZOFFSETTO:-0500
TZNAME:CDT
DTSTART:20260308T080000
END:DAYLIGHT
BEGIN:STANDARD
TZOFFSETFROM:-0500
TZOFFSETTO:-0600
TZNAME:CST
DTSTART:20261101T070000
END:STANDARD
END:VTIMEZONE
BEGIN:VEVENT
DTSTART;VALUE=DATE:20250602
DTEND;VALUE=DATE:20250607
DTSTAMP:20260419T155417
CREATED:20240821T153828Z
LAST-MODIFIED:20240821T153828Z
UID:13437-1748822400-1749254399@agoraministries.com
SUMMARY:AGORA Summer Street Camp 1
DESCRIPTION:AGORA Street Camp is an intense missions trip where students will SERVE\, SHARE\, and GROW. Attendees will be in an -inner-city environment in San Antonio\, TX\, serving in our city’s greatest area of need. For more information about our mission trips\, CLICK HERE!
URL:https://agoraministries.com/event/agora-summer-street-camp-1/
ATTACH;FMTTYPE=image/jpeg:https://agoraministries.com/wp-content/uploads/2024/08/Street-Camp3-.jpg
ORGANIZER;CN="AGORA Ministries":MAILTO:info@agoraministries.com
END:VEVENT
END:VCALENDAR