BEGIN:VCALENDAR
VERSION:2.0
PRODID:-//AGORA Ministries - ECPv6.15.20//NONSGML v1.0//EN
CALSCALE:GREGORIAN
METHOD:PUBLISH
X-WR-CALNAME:AGORA Ministries
X-ORIGINAL-URL:https://agoraministries.com
X-WR-CALDESC:Events for AGORA Ministries
REFRESH-INTERVAL;VALUE=DURATION:PT1H
X-Robots-Tag:noindex
X-PUBLISHED-TTL:PT1H
BEGIN:VTIMEZONE
TZID:America/Chicago
BEGIN:DAYLIGHT
TZOFFSETFROM:-0600
TZOFFSETTO:-0500
TZNAME:CDT
DTSTART:20230312T080000
END:DAYLIGHT
BEGIN:STANDARD
TZOFFSETFROM:-0500
TZOFFSETTO:-0600
TZNAME:CST
DTSTART:20231105T070000
END:STANDARD
BEGIN:DAYLIGHT
TZOFFSETFROM:-0600
TZOFFSETTO:-0500
TZNAME:CDT
DTSTART:20240310T080000
END:DAYLIGHT
BEGIN:STANDARD
TZOFFSETFROM:-0500
TZOFFSETTO:-0600
TZNAME:CST
DTSTART:20241103T070000
END:STANDARD
BEGIN:DAYLIGHT
TZOFFSETFROM:-0600
TZOFFSETTO:-0500
TZNAME:CDT
DTSTART:20250309T080000
END:DAYLIGHT
BEGIN:STANDARD
TZOFFSETFROM:-0500
TZOFFSETTO:-0600
TZNAME:CST
DTSTART:20251102T070000
END:STANDARD
END:VTIMEZONE
BEGIN:VEVENT
DTSTART;TZID=America/Chicago:20240927T190000
DTEND;TZID=America/Chicago:20240927T213000
DTSTAMP:20260420T065940
CREATED:20240910T150421Z
LAST-MODIFIED:20240910T150421Z
UID:13498-1727463600-1727472600@agoraministries.com
SUMMARY:AGORA Night of Worship
DESCRIPTION:Join us for a powerful Night of Worship 🎶 on Friday\, September 27th\, at 7 PM at 1103 Merida St\, San Antonio\, TX 78201. Come experience a night filled with worship🎵\, heartfelt praise 🙌\, Prayer\, and an opportunity to connect with God and our community 🤝. Don’t miss out on this time of worship and fellowship!✨
URL:https://agoraministries.com/event/agora-night-of-worship/
LOCATION:AGORA Cassianos\, 1103 Merida\, San Antonio\, TX\, 78207\, United States
ATTACH;FMTTYPE=image/jpeg:https://agoraministries.com/wp-content/uploads/2024/09/Pentecost-Worship-church-conference-social-media-1.jpeg
ORGANIZER;CN="AGORA Ministries":MAILTO:info@agoraministries.com
END:VEVENT
END:VCALENDAR